BEGIN:VCALENDAR
PRODID:-//Session events Calendar//IBA//EN
CALSCALE:GREGORIAN
VERSION:2.0
BEGIN:VEVENT
DTSTAMP:20260424T202543Z
DTSTART:20250509T173000Z
DTEND:20250509T203000Z
SUMMARY:Closing Dinner
DESCRIPTION:
LOCATION:Mirabel Oslo
UID:ac0d23d4-e64a-4ff5-b5c4-f42050e3677b
END:VEVENT
END:VCALENDAR
