BEGIN:VCALENDAR
PRODID:-//Session events Calendar//IBA//EN
CALSCALE:GREGORIAN
VERSION:2.0
BEGIN:VEVENT
DTSTAMP:20260424T170212Z
DTSTART:20250917T170000Z
DTEND:20250917T190000Z
SUMMARY:Conference reception
DESCRIPTION:
LOCATION:The Savoy
UID:5d587125-847d-45a4-81d0-0dbadeeaa837
END:VEVENT
END:VCALENDAR
