BEGIN:VCALENDAR
PRODID:-//Session events Calendar//IBA//EN
CALSCALE:GREGORIAN
VERSION:2.0
BEGIN:VEVENT
DTSTAMP:20260425T105327Z
DTSTART:20251205T193000Z
DTEND:20251205T230000Z
SUMMARY:Host committee dinner
DESCRIPTION:Meeting in the hotel lobby for bus departure at 18:15. Buses 
 depart at 18:30.\nAll registered delegates and speakers registered to at
 tend the full conference are welcome to attend.
LOCATION:Java Rooftop
UID:cbbd6975-64e0-4a79-a09b-4d6b895d5485
END:VEVENT
END:VCALENDAR
