BEGIN:VCALENDAR
PRODID:-//Session events Calendar//IBA//EN
CALSCALE:GREGORIAN
VERSION:2.0
BEGIN:VEVENT
DTSTAMP:20260424T185503Z
DTSTART:20250508T153000Z
DTEND:20250508T163000Z
SUMMARY:Diversity Reception
DESCRIPTION:
LOCATION:Simonsen Vogt Wiig
UID:13da62de-8f10-4ea1-8833-29ebbe91662b
END:VEVENT
END:VCALENDAR
