BEGIN:VCALENDAR
PRODID:-//Session events Calendar//IBA//EN
CALSCALE:GREGORIAN
VERSION:2.0
BEGIN:VEVENT
DTSTAMP:20260426T035238Z
DTSTART:20260308T180000Z
DTEND:20260308T200000Z
SUMMARY:Welcome Reception
DESCRIPTION:
LOCATION:Champagne Bar\, Mezzanine Floor\, The Landmark
UID:3976e9f2-1586-4766-9696-a20b2950372f
END:VEVENT
END:VCALENDAR
