BEGIN:VCALENDAR
PRODID:-//Session events Calendar//IBA//EN
CALSCALE:GREGORIAN
VERSION:2.0
BEGIN:VEVENT
DTSTAMP:20260425T215046Z
DTSTART:20260309T173000Z
DTEND:20260309T193000Z
SUMMARY:Conference Reception
DESCRIPTION:
LOCATION:Marble Ballroom\, The Landmark
UID:3086b937-75cf-4903-b953-9cf07b953781
END:VEVENT
END:VCALENDAR
