BEGIN:VCALENDAR
PRODID:-//Session events Calendar//IBA//EN
CALSCALE:GREGORIAN
VERSION:2.0
BEGIN:VEVENT
DTSTAMP:20260422T154817Z
DTSTART:20260422T170000Z
DTEND:20260422T190000Z
SUMMARY:Welcome reception 
DESCRIPTION:Join fellow delegates and speakers before the conference to n
 etwork at the welcome reception. All registered delegates are welcome to
  attend.\n\nGuests are unable to attend this event.\n
LOCATION:Courtyard\, Ujazdowski Castle
UID:a3a2a8e9-0c9e-448c-9ebc-53ed42f05585
END:VEVENT
END:VCALENDAR
