BEGIN:VCALENDAR
PRODID:-//Session events Calendar//IBA//EN
CALSCALE:GREGORIAN
VERSION:2.0
BEGIN:VEVENT
DTSTAMP:20260421T150400Z
DTSTART:20260531T163000Z
DTEND:20260531T193000Z
SUMMARY:Host committee reception at Käfer - Roof Garden Restaurant in the
  German Bundestag
DESCRIPTION:Local Host Committee\n\nA&amp\;O Shearman\nAnchor\nBarckhaus\
 nDr. Beck &amp\; Parnter\nBrinkmann &amp\; Partner\nBRL Boege Rohde Lueb
 behuesen\nCMS\nDentons\nFreshfields\nGleiss Lutz\nGÖRG\nGT Restructuring
 \nGrub Brugger\nGSK Stockmann\nHengeler Mueller\nHogan Lovells\nKirkland
  &amp\; Ellis\nLatham &amp\; Watkins\nNoerr\nWellensiek\nWhite &amp\; Ca
 se\nWillkie Farr &amp\; Gallagher\n\nAll registered delegates are welcom
 e to attend. All attendees will have the opportunity to visit the dome o
 f the Reichstags building (unguided)\n
LOCATION:Käfer - Roof Garden Restaurant in the German Bundestag
UID:75ed1c60-5fcf-4683-ba72-585d07ae280b
END:VEVENT
END:VCALENDAR
