BEGIN:VCALENDAR
PRODID:-//Session events Calendar//IBA//EN
CALSCALE:GREGORIAN
VERSION:2.0
BEGIN:VEVENT
DTSTAMP:20260421T150421Z
DTSTART:20260601T170000Z
DTEND:20260601T200000Z
SUMMARY:Conference dinner
DESCRIPTION:Ticket price €170\n\nBook now\n
LOCATION:Meistersaal am Potsdamer Platz
UID:a1ece55b-63a0-43c1-a4b0-51dfb2e50835
END:VEVENT
END:VCALENDAR
