BEGIN:VCALENDAR
PRODID:-//Session events Calendar//IBA//EN
CALSCALE:GREGORIAN
VERSION:2.0
BEGIN:VEVENT
DTSTAMP:20260426T002743Z
DTSTART:20260210T091500Z
DTEND:20260210T111500Z
SUMMARY:Closing drinks reception
DESCRIPTION:
LOCATION:B by the Brooklyn Brewery
UID:1ceda52c-af69-4e05-b2d1-8ee782d0097c
END:VEVENT
END:VCALENDAR
