BEGIN:VCALENDAR
PRODID:-//Session events Calendar//IBA//EN
CALSCALE:GREGORIAN
VERSION:2.0
BEGIN:VEVENT
DTSTAMP:20260425T234058Z
DTSTART:20260209T093000Z
DTEND:20260209T123000Z
SUMMARY:Conference dinner
DESCRIPTION:
LOCATION:Ryogoku Hana no Mai
UID:29554b39-9351-44b8-b8ad-13c51f33bfba
END:VEVENT
END:VCALENDAR
