BEGIN:VCALENDAR
PRODID:-//Session events Calendar//IBA//EN
CALSCALE:GREGORIAN
VERSION:2.0
BEGIN:VEVENT
DTSTAMP:20260420T132734Z
DTSTART:20250918T163000Z
DTEND:20250918T190000Z
SUMMARY:Host Committee Cocktail Reception
DESCRIPTION:A reception offered by the conference’s local Host Committee:
  Bowmans\, ENS\, Primerio\, Spoor &amp\; Fisher\, and Webber Wentzel.
LOCATION:Truffles on the Park\, Mushroom Farm Park
UID:2e64a4dd-0480-4ff4-acbf-65164ae1d981
END:VEVENT
END:VCALENDAR
