BEGIN:VCALENDAR
PRODID:-//Session events Calendar//IBA//EN
CALSCALE:GREGORIAN
VERSION:2.0
BEGIN:VEVENT
DTSTAMP:20260421T204404Z
DTSTART:20260326T161500Z
DTEND:20260326T174500Z
SUMMARY:Drinks reception at the conference hotel
DESCRIPTION:
LOCATION:
UID:653daa1b-0169-4d1b-bfa4-fcf8c8e254f7
END:VEVENT
END:VCALENDAR
