BEGIN:VCALENDAR
PRODID:-//Session events Calendar//IBA//EN
CALSCALE:GREGORIAN
VERSION:2.0
BEGIN:VEVENT
DTSTAMP:20260420T145636Z
DTSTART:20260520T160000Z
DTEND:20260520T180000Z
SUMMARY:Conference reception
DESCRIPTION:Details to follow
LOCATION:The Residence of the Mayor of Prague
UID:b10e41aa-69fa-4f1a-bfed-57add02c71f3
END:VEVENT
END:VCALENDAR
