BEGIN:VCALENDAR
PRODID:-//Session events Calendar//IBA//EN
CALSCALE:GREGORIAN
VERSION:2.0
BEGIN:VEVENT
DTSTAMP:20260425T180442Z
DTSTART:20211028T180000Z
DTEND:20211028T184500Z
SUMMARY:A conversation with... Brad S. Karp
DESCRIPTION:Recording now available\nWatch the recording\n\nBrad Karp has
  been the Chairman of Paul\, Weiss since 2008. One of the country’s lead
 ing litigators and corporate advisers\, Brad has successfully guided num
 erous Fortune 100 companies\, global financial institutions and other co
 mpanies and individuals through “bet the company” litigations\, regulato
 ry matters\, internal investigations\, and corporate crises. Prior to be
 ing named chairman\, Brad chaired the firm’s Litigation Department. Brad
  has spent his entire career at Paul\, Weiss\, beginning as a summer ass
 ociate.\n\nBrad is described by Chambers as “the best strategic adviser 
 in the business” and “someone who every CEO in America should have on sp
 eed dial\,” by The New York Times as “the most connected lawyer in the c
 ountry\,” and by Best Lawyers as “the most talented\, responsive\, clien
 t-sensitive\, creative\, effective lawyer of his generation in the count
 ry\, no question.”\n\nBrad has been named multiple times as “Lawyer of t
 he Year” and “Litigator of the Year.” Brad has earned dozens of industry
  awards and recognitions for his successful client representations and l
 egal achievements and for his role as a leader in the legal profession\,
  the business community and the public interest world. Brad is active in
  the community\, serving on more than 30 public interest\, educational\,
  cultural and charitable boards and has received numerous recognitions f
 or his pro bono accomplishments and charitable service.\n\nPaul\, Weiss 
 is one of the world’s highest-ranked firms on The American Lawyer’s pres
 tigious A-list.\n\nAll sessions are being recorded\, unless otherwise st
 ated.\n
LOCATION:Zoom
UID:4cf4871b-9993-4dec-8ddd-2b5a5bfe3a61
END:VEVENT
END:VCALENDAR
